BEGIN:VCALENDAR
VERSION:2.0
PRODID:-//ExpressionEngine Easy iCalendar plugin//NONSGML v2.0.1//EN
X-WR-TIMEZONE:America/Chicago
X-WR-CALNAME:Upcoming Auctions
BEGIN:VEVENT
UID:153128
DTSTAMP:20260101T000000
DTSTART:20260101T000000
DTEND:20260226T100000
SUMMARY:Day One - February 26th | Sexton Auctioneers February 2026 O
 nline Equipment Auction
LOCATION:5182 US HWY 63\, Pomona\, MO 65789\, US
DESCRIPTION:Looking to Sell Equipment? Sexton Auctioneers’ bi-monthly 
 equipment auctions connect your equipment with thousands of 
 active\, qualified buyers across the United States and intern
 ationally. Our proven marketing reach and competitive biddin
 g environment help maximize exposure and drive strong result
 s. Whether you’re selling a single piece or a full lineup 
 of equipment\, our open auction format makes the process simp
 le and efficient. We are currently accepting consignments fo
 r our upcoming two-day equipment auction\, taking place Febru
 ary 26–27. Consignment Deadline: Friday\, February 13th at 
 4:00 PM Seller Commission: • 5% per item Have questions or
  ready to get started? Call our sales line at 314-246-0729 t
 o speak with a member of our team.
URL:https://www.sextonauctioneers.com/auctions/detail/bw153128
SEQUENCE:1
END:VEVENT
END:VCALENDAR