BEGIN:VCALENDAR
VERSION:2.0
PRODID:-//ExpressionEngine Easy iCalendar plugin//NONSGML v2.0.1//EN
X-WR-TIMEZONE:America/Chicago
X-WR-CALNAME:Upcoming Auctions
BEGIN:VEVENT
UID:136253
DTSTAMP:20250311T100000
DTSTART:20250311T100000
DTEND:20250311T110000
SUMMARY:Tedder Outstanding Hay Auction
LOCATION:706 Townsend Drive\, Pocahontas\, AR 72455\, US
DESCRIPTION:Tuesday\, March 11 at 10am CT | 706 Townsend Drive\, Pocahonta
 s\, AR 72455 | Over 2\,000 Bales of High-Quality Bermuda Hay
URL:https://www.sextonauctioneers.com/auctions/detail/bw136253
SEQUENCE:1
END:VEVENT
END:VCALENDAR